BEGIN:VCALENDAR
VERSION:2.0
PRODID:-//Teknik Informatika FTUP - ECPv6.15.20//NONSGML v1.0//EN
CALSCALE:GREGORIAN
METHOD:PUBLISH
X-WR-CALNAME:Teknik Informatika FTUP
X-ORIGINAL-URL:https://teknik.univpancasila.ac.id/informatika
X-WR-CALDESC:Events for Teknik Informatika FTUP
REFRESH-INTERVAL;VALUE=DURATION:PT1H
X-Robots-Tag:noindex
X-PUBLISHED-TTL:PT1H
BEGIN:VTIMEZONE
TZID:UTC
BEGIN:STANDARD
TZOFFSETFROM:+0000
TZOFFSETTO:+0000
TZNAME:UTC
DTSTART:20180101T000000
END:STANDARD
END:VTIMEZONE
BEGIN:VEVENT
DTSTART;TZID=UTC:20251218T080000
DTEND;TZID=UTC:20251218T170000
DTSTAMP:20260423T120357
CREATED:20251216T020716Z
LAST-MODIFIED:20251216T020918Z
UID:9472-1766044800-1766077200@teknik.univpancasila.ac.id
SUMMARY:KULIAH UMUM – PROGRAM STUDI TEKNIK INFORMATIKA FTUP
DESCRIPTION:📢 KULIAH UMUM – PROGRAM STUDI TEKNIK INFORMATIKA FTUP \nProgram Studi Teknik Informatika\nFakultas Teknik Universitas Pancasila \n🎓 Tema:\nThe Governance\, Risk Mitigation\, and Risk Audit of Artificial Intelligence\nKuliah umum ini membahas tata kelola\, mitigasi risiko\, serta audit risiko dalam penerapan AI guna mendukung penggunaan teknologi yang aman\, bertanggung jawab\, dan berkelanjutan. \n🎙️ Narasumber:\nProf. Dr. Ir. Mujiono\, MT.\, CISA.\, CGEIT.\, IPU.\, ASEAN Eng\nPraktisi Informatika – Wakil Rektor I\, Universitas Bhayangkara\, Jakarta Raya \n🗓️ Kamis\, 18 Desember 2025\n⏰ 13.00 WIB – Selesai \n💻 Online (Zoom Meeting)\nLink Zoom: https://bit.ly/TheGovernance_Zoom\n🆔 ID Zoom: 858 2047 5813\n🔑 Passcode: Kulum_IT25 \n🔗 Pendaftaran: https://bit.ly/Regist_TheGovernance \n📺 Live YouTube: https://bit.ly/TheGovernanceRisk_ITFTUP \n✅ SKPI 5 Poin \n📌 Kuota terbatas. Segera daftar!
URL:https://teknik.univpancasila.ac.id/informatika/index.php/event/kuliah-umum-program-studi-teknik-informatika-ftup/
ATTACH;FMTTYPE=image/jpeg:https://teknik.univpancasila.ac.id/informatika/wp-content/uploads/2025/12/WhatsApp-Image-2025-12-16-at-09.07.52.jpeg
END:VEVENT
BEGIN:VEVENT
DTSTART;TZID=UTC:20241121T080000
DTEND;TZID=UTC:20241121T170000
DTSTAMP:20260423T120357
CREATED:20241121T032504Z
LAST-MODIFIED:20241121T032504Z
UID:9297-1732176000-1732208400@teknik.univpancasila.ac.id
SUMMARY:PMB 24/25
DESCRIPTION:
URL:https://teknik.univpancasila.ac.id/informatika/index.php/event/pmb-24-25/
ATTACH;FMTTYPE=image/png:https://teknik.univpancasila.ac.id/informatika/wp-content/uploads/2024/11/Template-FT.png
END:VEVENT
BEGIN:VEVENT
DTSTART;TZID=UTC:20220815T080000
DTEND;TZID=UTC:20220815T170000
DTSTAMP:20260423T120357
CREATED:20220815T044415Z
LAST-MODIFIED:20221121T141100Z
UID:6910-1660550400-1660582800@teknik.univpancasila.ac.id
SUMMARY:PKM (PENGABDIAN PADA MASYARAKAT)
DESCRIPTION:Kegiatan PKM (pengabdian pada masyarakat) untuk pengenalan internet oleh dosen dan mahasiswa Teknik Informatika Universitas Pancasila di lingkungan Beji Depok yang diperuntukan oleh ibu – ibu rumah tangga dilingkungan tersebut untuk mengenal labih baik keutamaan internet. Kegiatan yang dilakukan oleh mahasiswa dan dosen untuk para ibu rumah tangga dilaksanakan di gedung serbaguna Beji-Depok. Penjelasan pengenalan internet disampaikan oleh salah satu dosen Teknik Informatika pada kegiatan PKM\, penjelasan tersebut agar semua ibu-ibu rumah tangga bisa lebih maju untuk pemikiran kedepannya dalam kemajuan jaman sekarang dan dapat menggunakan internet untuk hal-hal yang positif. Setelah kegiatan tersebut selesai diharapkan dapat bermanfaat bagi ibu Rumah Tangga seperti memudahkan pencarian informasi\, bisa belajar bisnis online. \nTUJUAN\nTujuan yang hendak dicapai melalui kegiatan pengabdian kepada masyarakat adalah sebagai berikut: \n\nBertambahnya kecepatan proses peningkatan kemampuan sumber daya manusia sesuai dengan laju pertumbuhan pembangunan.\nBertambahnya kecepatan upaya pengembangan masyarakat ke arah terbinanya masyarakat yang harmonis serta dinamis yang siap menempuh perubahan-perubahan menuju perbaikan dan kemajuan sesuai dengan nilai-nilai sosial budaya dan norma-norma dalam kehidupan masyarakat berkembang dalam kehidupan masyarakat yang berlaku.\n\nUntuk memperoleh umpan balik dan masukan bagi fakultas dalam rangka meningkatkan relevansi pendidikan\, diperlukan adanya ahli-ahli yang memiliki kemampuan secara interdisipliner dan multidisipliner. \n\n\nSasaran\nSasaran pengabdian kepada masyarakat adalah sebagai berikut: \n\n\nMasyarakat luar kampus yang memerlukan bantuan dan petunjuk untuk meningkatkan kemampuan dalam pemecahan masalah untuk menunjang pembangunan. Yang diutamakan adalah mereka yang memiliki kedudukan diutamakan strategis dalam lapiran masyarakat\, yaitu antara lain unsur-unsur pimpinan\, pemuda atau remaja yang mampu melipatgandakan dan menyebarluaskan hasil kegiatan pengabdian pada masyarakat. \n\n\nMasyarakat pendidikan khusus\, yang sesuai dengan prioritas dalam bidang sains\, kependudukan dan lingkungan hidup\, serta lembaga pendidikan dan lembaga masyarakat yang memerlukan pembinaan dan pengembangan secara khusus.
URL:https://teknik.univpancasila.ac.id/informatika/index.php/event/rapat-persiapan-s2-ril/
ATTACH;FMTTYPE=image/jpeg:https://teknik.univpancasila.ac.id/informatika/wp-content/uploads/2022/08/pkm1.jpg
END:VEVENT
BEGIN:VEVENT
DTSTART;TZID=UTC:20191104T130000
DTEND;TZID=UTC:20191104T170000
DTSTAMP:20260423T120357
CREATED:20180816T115247Z
LAST-MODIFIED:20221121T140855Z
UID:5984-1572872400-1572886800@teknik.univpancasila.ac.id
SUMMARY:PKM INTERNET SEHAT KADER POSYANDU
DESCRIPTION:Kegiatan Pengabdian Kepada masyarakat ini dilakukan oleh Dosen Sebagai pembicara dan Mahasiswa sebagai CO-asisten\, kegiatan in dilakukan di Posyandu budiharapan \nKegiatan PKM (pengabdian pada masyarakat) untuk pengenalan internet oleh dosen dan mahasiswa Teknik Informatika Universitas Pancasila\, Pengabdian kepada masyarakat merupakan pelaksanaan pengamalan ilmu pengetahuan dan teknologi langsung pada masyarakat secara kelembagaan melalui metodologi ilmiah sebagai penyebaran Tri Dharma Perguruan Tinggi serta tanggung jawab yang luhur dalam usaha mengembangkan kemampuan masyarakat\, sehingga dapat mempercepat laju pertumbuhan tercapainya tujuan pembangunan nasional. \nTUJUAN\nTujuan yang hendak dicapai melalui kegiatan pengabdian kepada masyarakat adalah sebagai berikut: \nBertambahnya kecepatan proses peningkatan kemampuan sumber daya manusia sesuai dengan laju pertumbuhan pembangunan. \nBertambahnya kecepatan upaya pengembangan masyarakat ke arah terbinanya masyarakat yang harmonis serta dinamis yang siap menempuh perubahan-perubahan menuju perbaikan dan kemajuan sesuai dengan nilai-nilai sosial budaya dan norma-norma dalam kehidupan masyarakat berkembang dalam kehidupan masyarakat yang berlaku. \nBertambahnya kecepatan usaha pembinaan institusi dan profesi masyarakat sesuai dengan laju pertumbuhan proses modernisasi dalam kehidupan masyarakat itu sendiri. \nUntuk memperoleh umpan balik dan masukan bagi fakultas dalam rangka meningkatkan relevansi pendidikan\, diperlukan adanya ahli-ahli yang memiliki kemampuan secara interdisipliner dan multidisipliner. \nSasaran\nSasaran pengabdian kepada masyarakat adalah sebagai berikut: \nMasyarakat luar kampus yang memerlukan bantuan dan petunjuk untuk meningkatkan kemampuan dalam pemecahan masalah untuk menunjang pembangunan. Yang diutamakan adalah mereka yang memiliki kedudukan diutamakan strategis dalam lapiran masyarakat\, yaitu antara lain unsur-unsur pimpinan\, pemuda atau remaja yang mampu melipatgandakan dan menyebarluaskan hasil kegiatan pengabdian pada masyarakat. \nMasyarakat pendidikan khusus\, yang sesuai dengan prioritas dalam bidang sains\, kependudukan dan lingkungan hidup\, serta lembaga pendidikan dan lembaga masyarakat yang memerlukan pembinaan dan pengembangan secara khusus.
URL:https://teknik.univpancasila.ac.id/informatika/index.php/event/sport-management-information-webinar/
ATTACH;FMTTYPE=image/jpeg:https://teknik.univpancasila.ac.id/informatika/wp-content/uploads/2018/08/pkm20171.jpg
ORGANIZER;CN="Kingster's Social Club":MAILTO:clubs@kingsteruni.edu
END:VEVENT
BEGIN:VEVENT
DTSTART;TZID=UTC:20190911T080000
DTEND;TZID=UTC:20190911T123000
DTSTAMP:20260423T120357
CREATED:20180816T115159Z
LAST-MODIFIED:20221121T140804Z
UID:5982-1568188800-1568205000@teknik.univpancasila.ac.id
SUMMARY:BUKA PUASA BERSAMA DAN SANTUNAN ANAK YATIM
DESCRIPTION:Kegiatan Buka Bersama ketiga bulan Ramadhan bersama dengan anak Yatim dan Piatu yang diselenggarakan pada bulan 15 juni 2017\, Teknik informatika pancasila melakukan kegiatan rutin untuk tahun ke tahun dengan mengadakan buka bersama dengan anak yatim dan piatu serta dengan alumni mahasiswa informatika dan para mahasiswa aktif informatika\, dalam kegiatan tersebut bekerja sama dengan lembaga Green Indonesian Foundation(GIF) kurang lebih 20 anak yatim dan piatu. Dalam kegiatan ini bersama anak yatim dan piatu diselenggarakan beberapa acara untuk menghibur dalam hal marawis\,tausiyah dan games berhadiah. Kegiatan ini dilakukan untuk menjalin silaturahmi dan bersosialisasi. Untuk mengajarkan peduli dan kasih sayang terhadap sesama. Segenap keluarga teknik informatika mengucapkan majulah terus para pemuda-pemudi bangsa indonesia agar kelak engkau menjadi pemimpin yang adil dan bijaksana terhadap rakyat indonesia tanpa rasa pamrih dan tetaplah menjadi jiwa yang bijaksana. Salam dari kami universitas pancasila teknik informatika.
URL:https://teknik.univpancasila.ac.id/informatika/index.php/event/planning-and-facilitating-effective-meetings/
ATTACH;FMTTYPE=image/jpeg:https://teknik.univpancasila.ac.id/informatika/wp-content/uploads/2018/08/bukber1.jpg
END:VEVENT
END:VCALENDAR